BEGIN:VCALENDAR
VERSION:2.0
PRODID:-//Musikverein-Untrasried e.V. - ECPv6.15.19//NONSGML v1.0//EN
CALSCALE:GREGORIAN
METHOD:PUBLISH
X-ORIGINAL-URL:https://musikverein-untrasried.de
X-WR-CALDESC:Veranstaltungen für Musikverein-Untrasried e.V.
REFRESH-INTERVAL;VALUE=DURATION:PT1H
X-Robots-Tag:noindex
X-PUBLISHED-TTL:PT1H
BEGIN:VTIMEZONE
TZID:UTC
BEGIN:STANDARD
TZOFFSETFROM:+0000
TZOFFSETTO:+0000
TZNAME:UTC
DTSTART:20240101T000000
END:STANDARD
END:VTIMEZONE
BEGIN:VEVENT
DTSTART;TZID=UTC:20250706T123000
DTEND;TZID=UTC:20250706T190000
DTSTAMP:20260425T114936
CREATED:20240205T084759Z
LAST-MODIFIED:20250213T102721Z
UID:719-1751805000-1751828400@musikverein-untrasried.de
SUMMARY:BZMF Aitrang
DESCRIPTION:
URL:https://musikverein-untrasried.de/event/bzmf-heiligkreuz/
ATTACH;FMTTYPE=image/jpeg:https://musikverein-untrasried.de/wp-content/uploads/2021/01/Briefpapier2.0.jpg
END:VEVENT
END:VCALENDAR