BEGIN:VCALENDAR
VERSION:2.0
PRODID:-//Musikverein-Untrasried e.V. - ECPv6.15.19//NONSGML v1.0//EN
CALSCALE:GREGORIAN
METHOD:PUBLISH
X-WR-CALNAME:Musikverein-Untrasried e.V.
X-ORIGINAL-URL:https://musikverein-untrasried.de
X-WR-CALDESC:Veranstaltungen für Musikverein-Untrasried e.V.
REFRESH-INTERVAL;VALUE=DURATION:PT1H
X-Robots-Tag:noindex
X-PUBLISHED-TTL:PT1H
BEGIN:VTIMEZONE
TZID:UTC
BEGIN:STANDARD
TZOFFSETFROM:+0000
TZOFFSETTO:+0000
TZNAME:UTC
DTSTART:20240101T000000
END:STANDARD
END:VTIMEZONE
BEGIN:VEVENT
DTSTART;VALUE=DATE:20250726
DTEND;VALUE=DATE:20250728
DTSTAMP:20260424T031428
CREATED:20240205T084855Z
LAST-MODIFIED:20250213T102630Z
UID:721-1753488000-1753660799@musikverein-untrasried.de
SUMMARY:Dorffest
DESCRIPTION:
URL:https://musikverein-untrasried.de/event/dorffest-2/
LOCATION:Gemeindehaus Untrasried
ATTACH;FMTTYPE=image/jpeg:https://musikverein-untrasried.de/wp-content/uploads/2021/01/Briefpapier2.0.jpg
END:VEVENT
END:VCALENDAR