BEGIN:VCALENDAR
VERSION:2.0
PRODID:-//Musikverein-Untrasried e.V. - ECPv6.15.19//NONSGML v1.0//EN
CALSCALE:GREGORIAN
METHOD:PUBLISH
X-WR-CALNAME:Musikverein-Untrasried e.V.
X-ORIGINAL-URL:https://musikverein-untrasried.de
X-WR-CALDESC:Veranstaltungen für Musikverein-Untrasried e.V.
REFRESH-INTERVAL;VALUE=DURATION:PT1H
X-Robots-Tag:noindex
X-PUBLISHED-TTL:PT1H
BEGIN:VTIMEZONE
TZID:UTC
BEGIN:STANDARD
TZOFFSETFROM:+0000
TZOFFSETTO:+0000
TZNAME:UTC
DTSTART:20240101T000000
END:STANDARD
END:VTIMEZONE
BEGIN:VEVENT
DTSTART;TZID=UTC:20250304T133000
DTEND;TZID=UTC:20250304T143000
DTSTAMP:20260425T163639
CREATED:20240205T082457Z
LAST-MODIFIED:20250213T102154Z
UID:687-1741095000-1741098600@musikverein-untrasried.de
SUMMARY:Faschingsumzug
DESCRIPTION:
URL:https://musikverein-untrasried.de/event/faschingsumzug-2/
LOCATION:Gemeindehaus Untrasried
END:VEVENT
BEGIN:VEVENT
DTSTART;TZID=UTC:20250322T200000
DTEND;TZID=UTC:20250322T233000
DTSTAMP:20260425T163639
CREATED:20240205T082910Z
LAST-MODIFIED:20250213T103159Z
UID:694-1742673600-1742686200@musikverein-untrasried.de
SUMMARY:Wunschkonzert
DESCRIPTION:
URL:https://musikverein-untrasried.de/event/wunschkonzert-4/
LOCATION:Gasthaus Bären\, Untrasried
ATTACH;FMTTYPE=image/jpeg:https://musikverein-untrasried.de/wp-content/uploads/2021/01/Briefpapier2.0.jpg
END:VEVENT
BEGIN:VEVENT
DTSTART;TZID=UTC:20250323T200000
DTEND;TZID=UTC:20250323T233000
DTSTAMP:20260425T163639
CREATED:20240205T082811Z
LAST-MODIFIED:20250213T103230Z
UID:692-1742760000-1742772600@musikverein-untrasried.de
SUMMARY:Wunschkonzert
DESCRIPTION:
URL:https://musikverein-untrasried.de/event/wunschkonzert-3/
LOCATION:Gasthaus Bären\, Untrasried
ATTACH;FMTTYPE=image/jpeg:https://musikverein-untrasried.de/wp-content/uploads/2021/01/Briefpapier2.0.jpg
END:VEVENT
END:VCALENDAR