BEGIN:VCALENDAR
VERSION:2.0
PRODID:-//Musikverein-Untrasried e.V. - ECPv6.15.19//NONSGML v1.0//EN
CALSCALE:GREGORIAN
METHOD:PUBLISH
X-ORIGINAL-URL:https://musikverein-untrasried.de
X-WR-CALDESC:Veranstaltungen für Musikverein-Untrasried e.V.
REFRESH-INTERVAL;VALUE=DURATION:PT1H
X-Robots-Tag:noindex
X-PUBLISHED-TTL:PT1H
BEGIN:VTIMEZONE
TZID:UTC
BEGIN:STANDARD
TZOFFSETFROM:+0000
TZOFFSETTO:+0000
TZNAME:UTC
DTSTART:20240101T000000
END:STANDARD
END:VTIMEZONE
BEGIN:VEVENT
DTSTART;TZID=UTC:20251101T103000
DTEND;TZID=UTC:20251101T113000
DTSTAMP:20260423T143941
CREATED:20240205T085119Z
LAST-MODIFIED:20250213T102503Z
UID:725-1761993000-1761996600@musikverein-untrasried.de
SUMMARY:Allerheiligen
DESCRIPTION:
URL:https://musikverein-untrasried.de/event/allerheiligen-2/
ATTACH;FMTTYPE=image/jpeg:https://musikverein-untrasried.de/wp-content/uploads/2021/01/Briefpapier2.0.jpg
END:VEVENT
BEGIN:VEVENT
DTSTART;TZID=UTC:20251116T080000
DTEND;TZID=UTC:20251116T123000
DTSTAMP:20260423T143941
CREATED:20240205T085228Z
LAST-MODIFIED:20250213T102418Z
UID:727-1763280000-1763296200@musikverein-untrasried.de
SUMMARY:Veteranenjahrtag
DESCRIPTION:
URL:https://musikverein-untrasried.de/event/veteranenjahrtag-2/
LOCATION:Gasthaus Bären\, Untrasried
ATTACH;FMTTYPE=image/jpeg:https://musikverein-untrasried.de/wp-content/uploads/2021/01/Briefpapier2.0.jpg
END:VEVENT
END:VCALENDAR